BEGIN:VCALENDAR
VERSION:2.0
PRODID:-//Contratero//ES
CALSCALE:GREGORIAN
METHOD:PUBLISH
BEGIN:VEVENT
UID:02.07.01.01 2021/12.1-SS_REYES@contratero.es
DTSTAMP:20260422T234528Z
DTSTART:20230530T235959
DTEND:20230531T005959
SUMMARY:Cierre: Prórroga del Servicio de mantenimiento de la aplic
DESCRIPTION:Prórroga del Servicio de mantenimiento de la aplicación gestor de turnos y cita previa online\\n\\nOrganismo: Junta de Gobierno del Ayuntamiento de San Sebastián de los Reyes\\n\\nVer en Contratero: https://contratero.es/contracts/02.07.01.01 2021/12.1-SS_REYES
URL:https://contratero.es/contracts/02.07.01.01 2021/12.1-SS_REYES
STATUS:CONFIRMED
BEGIN:VALARM
TRIGGER:-P1D
ACTION:DISPLAY
DESCRIPTION:Recordatorio: Prórroga del Servicio de mante
END:VALARM
END:VEVENT
END:VCALENDAR